BEGIN:VCALENDAR
VERSION:2.0
PRODID:-//www.herbsociety.org//NONSGML kigkonsult.se iCalcreator 2.30.10//
CALSCALE:GREGORIAN
METHOD:PUBLISH
UID:99c5dbd3-2c94-4ecc-a4f9-a549df5070f5
X-WR-CALDESC:
X-WR-RELCALID:520b86a5b227c6e9ce89fb6dd8a7aabd
X-WR-TIMEZONE:America/New_York
BEGIN:VTIMEZONE
TZID:America/New_York
BEGIN:STANDARD
TZNAME:EST
DTSTART:20221106T020000
TZOFFSETFROM:-0400
TZOFFSETTO:-0500
RDATE:20231105T020000
END:STANDARD
BEGIN:DAYLIGHT
TZNAME:EDT
DTSTART:20230312T020000
TZOFFSETFROM:-0500
TZOFFSETTO:-0400
RDATE:20240310T020000
END:DAYLIGHT
END:VTIMEZONE
BEGIN:VEVENT
UID:29a4f8e1-d464-4436-abad-b0a070f0dcc4
DTSTAMP:20260421T081226Z
DESCRIPTION:
DTSTART;TZID=America/New_York:20230320T150000
DTEND;TZID=America/New_York:20230320T160000
LOCATION:
SUMMARY:Baton Rouge EdCon Planning Committee
END:VEVENT
END:VCALENDAR
