BEGIN:VCALENDAR
VERSION:2.0
PRODID:-//www.herbsociety.org//NONSGML kigkonsult.se iCalcreator 2.30.10//
CALSCALE:GREGORIAN
METHOD:PUBLISH
UID:8d14e713-b5d5-4248-baa8-89db0aad142d
X-WR-CALDESC:The Philadelphia Unit will demonstrate the making of tussie mu
 ssies and the meanings and symbolisms of the herbs in them. Attendees will
  take home a tussie mussie. No registration\, drop by.
X-WR-RELCALID:6567a285c000bc67811ea511004b85dc
X-WR-TIMEZONE:America/New_York
BEGIN:VTIMEZONE
TZID:America/New_York
BEGIN:STANDARD
TZNAME:EST
DTSTART:20221106T020000
TZOFFSETFROM:-0400
TZOFFSETTO:-0500
RDATE:20231105T020000
RDATE:20241103T020000
END:STANDARD
BEGIN:DAYLIGHT
TZNAME:EDT
DTSTART:20230312T020000
TZOFFSETFROM:-0500
TZOFFSETTO:-0400
RDATE:20240310T020000
END:DAYLIGHT
END:VTIMEZONE
BEGIN:VEVENT
UID:139d92db-e825-4dda-baf3-d602ba035ca6
DTSTAMP:20260422T015532Z
DESCRIPTION:The Philadelphia Unit will demonstrate the making of tussie mus
 sies and the meanings and symbolisms of the herbs in them. Attendees will 
 take home a tussie mussie. No registration\, drop by.
DTSTART;TZID=America/New_York:20230624T130000
DTEND;TZID=America/New_York:20230624T160000
LOCATION:National Herb Garden\, 3501 New York Ave NE\, Washington DC\, DC 2
 0002 US
SUMMARY:Under the Arbor - Tussie Mussies - A Bouquet with a Message
END:VEVENT
END:VCALENDAR
