BEGIN:VCALENDAR
VERSION:2.0
PRODID:-//www.herbsociety.org//NONSGML kigkonsult.se iCalcreator 2.30.10//
CALSCALE:GREGORIAN
METHOD:PUBLISH
UID:6c422e8f-b703-4350-93b2-351910d79c82
X-WR-CALDESC:
X-WR-RELCALID:69a64aab007b4f2c16aecb546150ba0e
X-WR-TIMEZONE:America/New_York
BEGIN:VTIMEZONE
TZID:America/New_York
BEGIN:STANDARD
TZNAME:EST
DTSTART:20221106T020000
TZOFFSETFROM:-0400
TZOFFSETTO:-0500
RDATE:20231105T020000
END:STANDARD
BEGIN:DAYLIGHT
TZNAME:EDT
DTSTART:20220313T020000
TZOFFSETFROM:-0500
TZOFFSETTO:-0400
RDATE:20230312T020000
RDATE:20240310T020000
END:DAYLIGHT
END:VTIMEZONE
BEGIN:VEVENT
UID:ae01a75f-9759-4447-a38a-378a7c2344a1
DTSTAMP:20260422T090220Z
DESCRIPTION:
DTSTART;TZID=America/New_York:20230116T150000
DTEND;TZID=America/New_York:20230116T160000
LOCATION:
SUMMARY:Baton Rouge EdCon Planning Committee
END:VEVENT
END:VCALENDAR
