BEGIN:VCALENDAR
VERSION:2.0
PRODID:-//www.herbsociety.org//NONSGML kigkonsult.se iCalcreator 2.30.10//
CALSCALE:GREGORIAN
METHOD:PUBLISH
UID:41c72ad8-1fda-4bac-9432-21a1fb675da5
X-WR-CALDESC:Hosted by The Northern California Unit \, the Gathering will f
 eature a business meeting\, four speakers\, a welcome reception\, farm-to-
 table style dinner and a possible additional excursion on Sunday. All food
 \, beverages\, presentations\, and activities are included in registration
 .\n\nFor event details visit https://www.norcalifornia-herbsociety.org/202
 2-district-gathering.html\n\n
X-WR-RELCALID:c7173954535b16d1d2926fa5250a2923
X-WR-TIMEZONE:America/New_York
BEGIN:VTIMEZONE
TZID:America/New_York
BEGIN:STANDARD
TZNAME:EST
DTSTART:20211107T020000
TZOFFSETFROM:-0400
TZOFFSETTO:-0500
RDATE:20221106T020000
RDATE:20231105T020000
END:STANDARD
BEGIN:DAYLIGHT
TZNAME:EDT
DTSTART:20220313T020000
TZOFFSETFROM:-0500
TZOFFSETTO:-0400
RDATE:20230312T020000
END:DAYLIGHT
END:VTIMEZONE
BEGIN:VEVENT
UID:a05c3cc2-651b-4e7a-ac91-e1a1497f5236
DTSTAMP:20260425T223111Z
DESCRIPTION:Hosted by The Northern California Unit \, the Gathering will fe
 ature a business meeting\, four speakers\, a welcome reception\, farm-to-t
 able style dinner and a possible additional excursion on Sunday. All food\
 , beverages\, presentations\, and activities are included in registration.
 \n\nFor event details visit https://www.norcalifornia-herbsociety.org/2022
 -district-gathering.html\n\n
DTSTART;TZID=America/New_York:20220610T000000
DTEND;TZID=America/New_York:20220611T235900
LOCATION:Pleasant Hill\, CA (San Francisco East Bay)
SUMMARY:West District Gathering
END:VEVENT
END:VCALENDAR
