BEGIN:VCALENDAR
VERSION:2.0
PRODID:-//www.herbsociety.org//NONSGML kigkonsult.se iCalcreator 2.30.10//
CALSCALE:GREGORIAN
METHOD:PUBLISH
UID:ad7db823-f882-4747-a3f3-5bc7ca499318
X-WR-CALDESC:Charleston Planning Meetings\n\n\nPlease join my meeting from 
 your computer\, tablet or smartphone.\n\nhttps://global.gotomeeting.com/jo
 in/597324317\n\nYou can also dial in using your phone.\n(For supported dev
 ices\, tap a one-touch number below to join instantly.)\n\nUnited States: 
 +1 (646) 749-3122\n- One-touch: tel:+16467493122\,\,597324317#\n\nAccess C
 ode: 597-324-317\n\n\nNew to GoToMeeting? Get the app now and be ready whe
 n your first meeting starts: https://global.gotomeeting.com/install/597324
 317\n
X-WR-RELCALID:dd946350cc395cab63d32017f6ae7a29
X-WR-TIMEZONE:America/New_York
BEGIN:VTIMEZONE
TZID:America/New_York
BEGIN:STANDARD
TZNAME:EST
DTSTART:20211107T020000
TZOFFSETFROM:-0400
TZOFFSETTO:-0500
RDATE:20221106T020000
END:STANDARD
BEGIN:DAYLIGHT
TZNAME:EDT
DTSTART:20210314T020000
TZOFFSETFROM:-0500
TZOFFSETTO:-0400
RDATE:20220313T020000
RDATE:20230312T020000
END:DAYLIGHT
END:VTIMEZONE
BEGIN:VEVENT
UID:fdd05e6d-7dec-43d6-858f-9b7c235652ed
DTSTAMP:20260425T163342Z
DESCRIPTION:Charleston Planning Meetings\n\n\nPlease join my meeting from y
 our computer\, tablet or smartphone.\n\nhttps://global.gotomeeting.com/joi
 n/597324317\n\nYou can also dial in using your phone.\n(For supported devi
 ces\, tap a one-touch number below to join instantly.)\n\nUnited States: +
 1 (646) 749-3122\n- One-touch: tel:+16467493122\,\,597324317#\n\nAccess Co
 de: 597-324-317\n\n\nNew to GoToMeeting? Get the app now and be ready when
  your first meeting starts: https://global.gotomeeting.com/install/5973243
 17\n
DTSTART;TZID=America/New_York:20211129T180000
DTEND;TZID=America/New_York:20211129T190000
LOCATION:
SUMMARY:Charleston Planning
END:VEVENT
END:VCALENDAR
